BEGIN:VCALENDAR
VERSION:2.0
PRODID:-//Plone.org//NONSGML plone.app.event//EN
X-WR-TIMEZONE:Brazil/East
BEGIN:VEVENT
SUMMARY:VISITA GUIADA DE 40 ESTUDANTES DO COLÉGIO INTEGRADO KIDS.
DTSTART;TZID=Brazil/East;VALUE=DATE-TIME:20250828T120000
DTEND;TZID=Brazil/East;VALUE=DATE-TIME:20250828T180000
DTSTAMP;VALUE=DATE-TIME:20260420T065350Z
UID:eadc7148243b4580ab6c2544ceb15570@www.goiania.go.leg.br
CONTACT:PARLAMENTO JOVEM 
CREATED;VALUE=DATE-TIME:20250227T121250Z
LAST-MODIFIED;VALUE=DATE-TIME:20250227T121312Z
LOCATION:HALL DE ENTRADA DESTA CASA DE LEIS
URL:https://www.goiania.go.leg.br/sala-de-imprensa/eventos/visita-guiada-d
 e-40-estudantes-do-colegio-integrado-kids
END:VEVENT
BEGIN:VTIMEZONE
TZID:Brazil/East
X-LIC-LOCATION:Brazil/East
BEGIN:STANDARD
DTSTART;VALUE=DATE-TIME:20250215T230000
TZNAME:BRT
TZOFFSETFROM:-0200
TZOFFSETTO:-0300
END:STANDARD
END:VTIMEZONE
END:VCALENDAR
