BEGIN:VCALENDAR
VERSION:2.0
PRODID:-//Plone.org//NONSGML plone.app.event//EN
X-WR-TIMEZONE:Brazil/East
BEGIN:VEVENT
SUMMARY:UMA ASSEMBLEIA COM OS AGENTES COMUNITÁRIOS DE SAÚDE DA SECRETÁR
 IA MUNICIPAL DE SAÚDE.
DTSTART;TZID=Brazil/East;VALUE=DATE-TIME:20190809T140000
DTEND;TZID=Brazil/East;VALUE=DATE-TIME:20190809T180000
DTSTAMP;VALUE=DATE-TIME:20260422T070746Z
UID:9710139d661745b7bc7090bcc8475e49@www.goiania.go.leg.br
CONTACT:FLAVIANA ALVES BARBOSA
CREATED;VALUE=DATE-TIME:20190806T220328Z
LAST-MODIFIED;VALUE=DATE-TIME:20190806T220405Z
LOCATION:AUDITÓRIO JAIME CÂMARA
URL:https://www.goiania.go.leg.br/sala-de-imprensa/eventos/uma-assembleia-
 com-os-agentes-comunitarios-de-saude-da-secretaria-municipal-de-saude
END:VEVENT
BEGIN:VTIMEZONE
TZID:Brazil/East
X-LIC-LOCATION:Brazil/East
BEGIN:STANDARD
DTSTART;VALUE=DATE-TIME:20190216T230000
TZNAME:BRT
TZOFFSETFROM:-0200
TZOFFSETTO:-0300
END:STANDARD
END:VTIMEZONE
END:VCALENDAR
