BEGIN:VCALENDAR
VERSION:2.0
PRODID:-//Plone.org//NONSGML plone.app.event//EN
X-WR-TIMEZONE:Brazil/East
BEGIN:VEVENT
SUMMARY:UM SEMINÁRIO EM COMEMORAÇÃO AO DIA DA ENFERMAGEM.
DTSTART;TZID=Brazil/East;VALUE=DATE-TIME:20240520T080000
DTEND;TZID=Brazil/East;VALUE=DATE-TIME:20240520T220000
DTSTAMP;VALUE=DATE-TIME:20260420T024323Z
UID:128d07586e1a4e82ac763542ea8026bc@www.goiania.go.leg.br
CONTACT:VEREADOR RONILSON REIS
CREATED;VALUE=DATE-TIME:20240509T212234Z
LAST-MODIFIED;VALUE=DATE-TIME:20240515T152300Z
LOCATION:AUDITÓRIO CARLOS EURICO
URL:https://www.goiania.go.leg.br/sala-de-imprensa/eventos/um-seminario-em
 -comemoracao-ao-dia-da-enfermagem
END:VEVENT
BEGIN:VTIMEZONE
TZID:Brazil/East
X-LIC-LOCATION:Brazil/East
BEGIN:STANDARD
DTSTART;VALUE=DATE-TIME:20240217T230000
TZNAME:BRT
TZOFFSETFROM:-0200
TZOFFSETTO:-0300
END:STANDARD
END:VTIMEZONE
END:VCALENDAR
