BEGIN:VCALENDAR
VERSION:2.0
PRODID:-//Plone.org//NONSGML plone.app.event//EN
X-WR-TIMEZONE:Brazil/East
BEGIN:VEVENT
SUMMARY:UM BATE-PAPO ENTRE VISITANTES E UM PROCURADOR OU VEREADOR DA CASA.
DTSTART;TZID=Brazil/East;VALUE=DATE-TIME:20250528T100000
DTEND;TZID=Brazil/East;VALUE=DATE-TIME:20250528T120000
DTSTAMP;VALUE=DATE-TIME:20260420T093401Z
UID:c1b6ccb1c97540768d7f33ad7faa34e4@www.goiania.go.leg.br
CONTACT:COORDENAÇÃO DA ESCOLA LEGISLATIVA
CREATED;VALUE=DATE-TIME:20250508T112934Z
LAST-MODIFIED;VALUE=DATE-TIME:20250508T112946Z
LOCATION:SALA DE REUNIÃO DA PRESIDÊNCIA
URL:https://www.goiania.go.leg.br/sala-de-imprensa/eventos/um-bate-papo-en
 tre-visitantes-e-um-procurador-ou-vereador-da-casa-1
END:VEVENT
BEGIN:VTIMEZONE
TZID:Brazil/East
X-LIC-LOCATION:Brazil/East
BEGIN:STANDARD
DTSTART;VALUE=DATE-TIME:20250215T230000
TZNAME:BRT
TZOFFSETFROM:-0200
TZOFFSETTO:-0300
END:STANDARD
END:VTIMEZONE
END:VCALENDAR
