BEGIN:VCALENDAR
VERSION:2.0
PRODID:-//Plone.org//NONSGML plone.app.event//EN
X-WR-TIMEZONE:Brazil/East
BEGIN:VEVENT
SUMMARY:TRIBUNA LIVRE DA MELHORIA DO PROCESSO ALVARÁ FÁCIL.
DTSTART;TZID=Brazil/East;VALUE=DATE-TIME:20200220T100000
DTEND;TZID=Brazil/East;VALUE=DATE-TIME:20200220T120000
DTSTAMP;VALUE=DATE-TIME:20260420T082148Z
UID:3fb559a79743477f89403d377752cfe6@www.goiania.go.leg.br
CONTACT:VEREADOR LUCAS KITÃO
CREATED;VALUE=DATE-TIME:20200212T142443Z
LAST-MODIFIED;VALUE=DATE-TIME:20200212T142451Z
LOCATION:PLENÁRIO TRAJANO GUIMARÃES
URL:https://www.goiania.go.leg.br/sala-de-imprensa/eventos/tribuna-livre-d
 a-melhoria-do-processo-alvara-facil
END:VEVENT
BEGIN:VTIMEZONE
TZID:Brazil/East
X-LIC-LOCATION:Brazil/East
BEGIN:STANDARD
DTSTART;VALUE=DATE-TIME:20200215T230000
TZNAME:BRT
TZOFFSETFROM:-0200
TZOFFSETTO:-0300
END:STANDARD
END:VTIMEZONE
END:VCALENDAR
