BEGIN:VCALENDAR
VERSION:2.0
PRODID:-//Plone.org//NONSGML plone.app.event//EN
X-WR-TIMEZONE:Brazil/East
BEGIN:VEVENT
SUMMARY:TREINAMENTO OFICINA LEGISLATIVA.
DTSTART;TZID=Brazil/East;VALUE=DATE-TIME:20220613T133000
DTEND;TZID=Brazil/East;VALUE=DATE-TIME:20220613T163000
DTSTAMP;VALUE=DATE-TIME:20260419T190041Z
UID:99af93022b944eb5997a4845ab3c89e6@www.goiania.go.leg.br
CONTACT:MILKA REZENDE
CREATED;VALUE=DATE-TIME:20220610T205412Z
LAST-MODIFIED;VALUE=DATE-TIME:20220610T205421Z
LOCATION:AUDITÓRIO CARLOS EURICO
URL:https://www.goiania.go.leg.br/sala-de-imprensa/eventos/treinamento-ofi
 cina-legislativa
END:VEVENT
BEGIN:VTIMEZONE
TZID:Brazil/East
X-LIC-LOCATION:Brazil/East
BEGIN:STANDARD
DTSTART;VALUE=DATE-TIME:20220219T230000
TZNAME:BRT
TZOFFSETFROM:-0200
TZOFFSETTO:-0300
END:STANDARD
END:VTIMEZONE
END:VCALENDAR
