BEGIN:VCALENDAR
VERSION:2.0
PRODID:-//Plone.org//NONSGML plone.app.event//EN
X-WR-TIMEZONE:Brazil/East
BEGIN:VEVENT
SUMMARY:TREINAMENTO DE SERVIDORES SOBRE O SISTEMA DE CONTRATOS E CONVÊNIO
 S DA PREFEITURA DE GOIÂNIA.
DTSTART;TZID=Brazil/East;VALUE=DATE-TIME:20180912T140000
DTEND;TZID=Brazil/East;VALUE=DATE-TIME:20180912T180000
DTSTAMP;VALUE=DATE-TIME:20260425T092047Z
UID:01ff734ff8ba4fa487698b90f4e63cca@www.goiania.go.leg.br
CONTACT:AMILTON FERREIRA DA SILVA
CREATED;VALUE=DATE-TIME:20180904T124618Z
LAST-MODIFIED;VALUE=DATE-TIME:20180904T124626Z
LOCATION:SALA DE REUNIÃO DAS COMISSÕES
URL:https://www.goiania.go.leg.br/sala-de-imprensa/eventos/treinamento-de-
 servidores-sobre-o-sistema-de-contratos-e-convenios-da-prefeitura-de-goian
 ia
END:VEVENT
BEGIN:VTIMEZONE
TZID:Brazil/East
X-LIC-LOCATION:Brazil/East
BEGIN:STANDARD
DTSTART;VALUE=DATE-TIME:20180217T230000
TZNAME:BRT
TZOFFSETFROM:-0200
TZOFFSETTO:-0300
END:STANDARD
END:VTIMEZONE
END:VCALENDAR
