BEGIN:VCALENDAR
VERSION:2.0
PRODID:-//Plone.org//NONSGML plone.app.event//EN
X-WR-TIMEZONE:Brazil/East
BEGIN:VEVENT
SUMMARY:TREINAMENTO DE SERVIDORES DO GABINETE 32.
DTSTART;TZID=Brazil/East;VALUE=DATE-TIME:20250425T090000
DTEND;TZID=Brazil/East;VALUE=DATE-TIME:20250425T110000
DTSTAMP;VALUE=DATE-TIME:20260421T110937Z
UID:7359e1ab525d45cf8c03fb44e7381175@www.goiania.go.leg.br
CONTACT:VEREADOR HEYLER LEÃO
CREATED;VALUE=DATE-TIME:20250424T150922Z
LAST-MODIFIED;VALUE=DATE-TIME:20250424T150938Z
LOCATION:SALA DE REUNIÃO DA PRESIDÊNCIA
URL:https://www.goiania.go.leg.br/sala-de-imprensa/eventos/treinamento-de-
 servidores-do-gabinete-32
END:VEVENT
BEGIN:VTIMEZONE
TZID:Brazil/East
X-LIC-LOCATION:Brazil/East
BEGIN:STANDARD
DTSTART;VALUE=DATE-TIME:20250215T230000
TZNAME:BRT
TZOFFSETFROM:-0200
TZOFFSETTO:-0300
END:STANDARD
END:VTIMEZONE
END:VCALENDAR
