BEGIN:VCALENDAR
VERSION:2.0
PRODID:-//Plone.org//NONSGML plone.app.event//EN
X-WR-TIMEZONE:Brazil/East
BEGIN:VEVENT
SUMMARY:SIMULAÇÃO DO POLITIZAR GOIÂNIA.
DTSTART;TZID=Brazil/East;VALUE=DATE-TIME:20191206T093000
DTEND;TZID=Brazil/East;VALUE=DATE-TIME:20191206T120000
DTSTAMP;VALUE=DATE-TIME:20260421T080744Z
UID:8ecdcb327719400790b909eb63052142@www.goiania.go.leg.br
CONTACT:ANTÔNIO GABRIEL T. OLIVEIRA
CREATED;VALUE=DATE-TIME:20191129T223941Z
LAST-MODIFIED;VALUE=DATE-TIME:20191129T223952Z
LOCATION:SALA DE REUNIÃO DA PRESIDÊNCIA
URL:https://www.goiania.go.leg.br/sala-de-imprensa/eventos/simulacao-do-po
 litizar-goiania-5
END:VEVENT
BEGIN:VTIMEZONE
TZID:Brazil/East
X-LIC-LOCATION:Brazil/East
BEGIN:DAYLIGHT
DTSTART;VALUE=DATE-TIME:20191020T010000
TZNAME:BRST
TZOFFSETFROM:-0300
TZOFFSETTO:-0200
END:DAYLIGHT
END:VTIMEZONE
END:VCALENDAR
