BEGIN:VCALENDAR
VERSION:2.0
PRODID:-//Plone.org//NONSGML plone.app.event//EN
X-WR-TIMEZONE:Brazil/East
BEGIN:VEVENT
SUMMARY:SIMPÓSIO GOIANO SOBRE O AUTISMO DA INFÂNCIA À ADOLESCÊNCIA\, C
 OORDENADOR PELA DRA. ALESSANDRA JACOB - MÉDICA E PEDIATRA E PRESIDENTE DA
  AFAAG.
DTSTART;TZID=Brazil/East;VALUE=DATE-TIME:20200404T070000
DTEND;TZID=Brazil/East;VALUE=DATE-TIME:20200404T183000
DTSTAMP;VALUE=DATE-TIME:20260421T052136Z
UID:301b3bd971ad4fdf83a561cb9589fa4f@www.goiania.go.leg.br
CONTACT:VEREADOR ÁLVARO DA UNIVERSO
CREATED;VALUE=DATE-TIME:20200203T153704Z
LAST-MODIFIED;VALUE=DATE-TIME:20200203T153710Z
LOCATION:AUDITÓRIO JAIME CÂMARA
URL:https://www.goiania.go.leg.br/sala-de-imprensa/eventos/simposio-goiano
 -sobre-o-autismo-da-infancia-a-adolescencia-coordenador-pela-dra-alessandr
 a-jacob-medica-e-pediatra-e-presidente-da-afaag
END:VEVENT
BEGIN:VTIMEZONE
TZID:Brazil/East
X-LIC-LOCATION:Brazil/East
BEGIN:STANDARD
DTSTART;VALUE=DATE-TIME:20200215T230000
TZNAME:BRT
TZOFFSETFROM:-0200
TZOFFSETTO:-0300
END:STANDARD
END:VTIMEZONE
END:VCALENDAR
