BEGIN:VCALENDAR
VERSION:2.0
PRODID:-//Plone.org//NONSGML plone.app.event//EN
X-WR-TIMEZONE:Brazil/East
BEGIN:VEVENT
SUMMARY:SESSÃO SOLENE PARA ENTREGA DA MEDALHA WANDERLEY MAGALHÃES AZEVED
 O AOS ATLETAS DO GOIÁS ESPORTE CLUBE.
DTSTART;TZID=Brazil/East;VALUE=DATE-TIME:20181206T193000
DTEND;TZID=Brazil/East;VALUE=DATE-TIME:20181206T220000
DTSTAMP;VALUE=DATE-TIME:20260421T073139Z
UID:a6761b7e549a4e55a6bb71731b702c88@www.goiania.go.leg.br
CONTACT:VEREADORA SABRINA GARCÊZ
CREATED;VALUE=DATE-TIME:20181130T120749Z
LAST-MODIFIED;VALUE=DATE-TIME:20181130T120809Z
LOCATION:PLENÁRIO TRAJANO  GUIMARÃES
URL:https://www.goiania.go.leg.br/sala-de-imprensa/eventos/sessao-solene-p
 ara-entrega-da-medalha-wanderley-magalhaes-azevedo-aos-atletas-do-goias-es
 porte-clube
END:VEVENT
BEGIN:VTIMEZONE
TZID:Brazil/East
X-LIC-LOCATION:Brazil/East
BEGIN:DAYLIGHT
DTSTART;VALUE=DATE-TIME:20181021T010000
TZNAME:BRST
TZOFFSETFROM:-0300
TZOFFSETTO:-0200
END:DAYLIGHT
END:VTIMEZONE
END:VCALENDAR
