BEGIN:VCALENDAR
VERSION:2.0
PRODID:-//Plone.org//NONSGML plone.app.event//EN
X-WR-TIMEZONE:Brazil/East
BEGIN:VEVENT
SUMMARY:SESSÃO SOLENE PARA  A OUTORGA DO TÍTULO DE CIDADÃO GOIANIENSE A
 O SENHOR SEBASTIÃO MESQUITA.
DTSTART;TZID=Brazil/East;VALUE=DATE-TIME:20250515T100000
DTEND;TZID=Brazil/East;VALUE=DATE-TIME:20250515T120000
DTSTAMP;VALUE=DATE-TIME:20260421T083059Z
UID:cc8c8dba9dd748cca32faeb73ddf8ec9@www.goiania.go.leg.br
CONTACT:VEREADOR CABO SENNA
CREATED;VALUE=DATE-TIME:20250410T121155Z
LAST-MODIFIED;VALUE=DATE-TIME:20250410T121210Z
LOCATION:PLENÁRIO TRAJANO GUIMARÃES
URL:https://www.goiania.go.leg.br/sala-de-imprensa/eventos/sessao-solene-p
 ara-a-outorga-do-titulo-de-cidadao-goianiense-ao-senhor-sebastiao-mesquita
END:VEVENT
BEGIN:VTIMEZONE
TZID:Brazil/East
X-LIC-LOCATION:Brazil/East
BEGIN:STANDARD
DTSTART;VALUE=DATE-TIME:20250215T230000
TZNAME:BRT
TZOFFSETFROM:-0200
TZOFFSETTO:-0300
END:STANDARD
END:VTIMEZONE
END:VCALENDAR
