BEGIN:VCALENDAR
VERSION:2.0
PRODID:-//Plone.org//NONSGML plone.app.event//EN
X-WR-TIMEZONE:Brazil/East
BEGIN:VEVENT
SUMMARY:SESSÃO SOLENE PARA A ENTREGA DO TÍTULO DE CIDADÃO GOIANIENSE AO
  SENHOR ZEIR ASCARI.
DTSTART;TZID=Brazil/East;VALUE=DATE-TIME:20251014T190000
DTEND;TZID=Brazil/East;VALUE=DATE-TIME:20251014T220000
DTSTAMP;VALUE=DATE-TIME:20260421T081010Z
UID:8a82b77c4f244e69b576391f1c25dda1@www.goiania.go.leg.br
CONTACT:VEREADOR GEVERSON ABEL
CREATED;VALUE=DATE-TIME:20250829T140824Z
LAST-MODIFIED;VALUE=DATE-TIME:20250909T142706Z
LOCATION:AUDITÓRIO JAIME CÂMARA
URL:https://www.goiania.go.leg.br/sala-de-imprensa/eventos/sessao-solene-p
 ara-a-entrega-do-titulo-de-cidadao-goianiense-ao-senhor-zeir-ascari
END:VEVENT
BEGIN:VTIMEZONE
TZID:Brazil/East
X-LIC-LOCATION:Brazil/East
BEGIN:STANDARD
DTSTART;VALUE=DATE-TIME:20250215T230000
TZNAME:BRT
TZOFFSETFROM:-0200
TZOFFSETTO:-0300
END:STANDARD
END:VTIMEZONE
END:VCALENDAR
