BEGIN:VCALENDAR
VERSION:2.0
PRODID:-//Plone.org//NONSGML plone.app.event//EN
X-WR-TIMEZONE:Brazil/East
BEGIN:VEVENT
SUMMARY:SESSÃO SOLENE PARA A ENTREGA DO TÍTULO DE CIDADÃO GOIANIENSE AO
  SENHOR WILSON GUSTAVO OLIVEIRA SOUSA.
DTSTART;TZID=Brazil/East;VALUE=DATE-TIME:20260324T110000
DTEND;TZID=Brazil/East;VALUE=DATE-TIME:20260324T130000
DTSTAMP;VALUE=DATE-TIME:20260420T214221Z
UID:3a2327f0aeb940d7aed6019bce753d05@www.goiania.go.leg.br
CONTACT:VEREADOR TIÃO PEIXOTO
CREATED;VALUE=DATE-TIME:20260113T155232Z
LAST-MODIFIED;VALUE=DATE-TIME:20260113T155251Z
LOCATION:PLENÁRIO TRAJANO GUIMARÃES
URL:https://www.goiania.go.leg.br/sala-de-imprensa/eventos/sessao-solene-p
 ara-a-entrega-do-titulo-de-cidadao-goianiense-ao-senhor-wilson-gustavo-oli
 veira-sousa
END:VEVENT
BEGIN:VTIMEZONE
TZID:Brazil/East
X-LIC-LOCATION:Brazil/East
BEGIN:STANDARD
DTSTART;VALUE=DATE-TIME:20260221T230000
TZNAME:BRT
TZOFFSETFROM:-0200
TZOFFSETTO:-0300
END:STANDARD
END:VTIMEZONE
END:VCALENDAR
