BEGIN:VCALENDAR
VERSION:2.0
PRODID:-//Plone.org//NONSGML plone.app.event//EN
X-WR-TIMEZONE:Brazil/East
BEGIN:VEVENT
SUMMARY:SESSÃO SOLENE PARA A ENTREGA DO TÍTULO DE CIDADÃO GOIANIENSE AO
  SENHOR FRANCISCO TARCÍSIO RIBEIRO DE ABREU.
DTSTART;TZID=Brazil/East;VALUE=DATE-TIME:20220314T190000
DTEND;TZID=Brazil/East;VALUE=DATE-TIME:20220314T220000
DTSTAMP;VALUE=DATE-TIME:20260421T083022Z
UID:11a1233c868545678c81482974393629@www.goiania.go.leg.br
CONTACT:VEREADOR ANSELMO PEREIRA
CREATED;VALUE=DATE-TIME:20220210T122725Z
LAST-MODIFIED;VALUE=DATE-TIME:20220223T143005Z
LOCATION:PLENÁRIO TRAJANO GUIMARÃES
URL:https://www.goiania.go.leg.br/sala-de-imprensa/eventos/sessao-solene-p
 ara-a-entrega-do-titulo-de-cidadao-goianiense-ao-senhor-francisco-tarcisio
 -ribeiro-de-abreu
END:VEVENT
BEGIN:VTIMEZONE
TZID:Brazil/East
X-LIC-LOCATION:Brazil/East
BEGIN:STANDARD
DTSTART;VALUE=DATE-TIME:20220219T230000
TZNAME:BRT
TZOFFSETFROM:-0200
TZOFFSETTO:-0300
END:STANDARD
END:VTIMEZONE
END:VCALENDAR
