BEGIN:VCALENDAR
VERSION:2.0
PRODID:-//Plone.org//NONSGML plone.app.event//EN
X-WR-TIMEZONE:Brazil/East
BEGIN:VEVENT
SUMMARY:SESSÃO SOLENE PARA A ENTREGA DE TÍTULO HONORÍFICO DE CIDADANIA 
 GOIANIENSE\, AO SENHOR FELIPE VILELA AGUAIR RIBEIRO.
DTSTART;TZID=Brazil/East;VALUE=DATE-TIME:20231130T103000
DTEND;TZID=Brazil/East;VALUE=DATE-TIME:20231130T113000
DTSTAMP;VALUE=DATE-TIME:20260421T085015Z
UID:0e4b72f920fe45d48572d99d03ac4a8d@www.goiania.go.leg.br
CONTACT:VEREADOR WILLIAN VELOSO
CREATED;VALUE=DATE-TIME:20230828T110206Z
LAST-MODIFIED;VALUE=DATE-TIME:20231121T112945Z
LOCATION:PLENÁRIO TRAJANO GUIMARÃES
URL:https://www.goiania.go.leg.br/sala-de-imprensa/eventos/sessao-solene-p
 ara-a-entrega-de-titulo-honorifico-de-cidadania-goianiense-ao-senhor-felip
 e-vilela-aguair-ribeiro
END:VEVENT
BEGIN:VTIMEZONE
TZID:Brazil/East
X-LIC-LOCATION:Brazil/East
BEGIN:DAYLIGHT
DTSTART;VALUE=DATE-TIME:20231015T010000
TZNAME:BRST
TZOFFSETFROM:-0300
TZOFFSETTO:-0200
END:DAYLIGHT
END:VTIMEZONE
END:VCALENDAR
