BEGIN:VCALENDAR
VERSION:2.0
PRODID:-//Plone.org//NONSGML plone.app.event//EN
X-WR-TIMEZONE:Brazil/East
BEGIN:VEVENT
SUMMARY:SESSÃO SOLENE PARA A ENTREGA DA MEDALHA VENERENDO DE FREITAS BORG
 ES\, PARA HOMENAGEAR A BANDA DA POLÍCIA MILITAR DO ESTADO DE GOIÁS.
DTSTART;TZID=Brazil/East;VALUE=DATE-TIME:20231212T170000
DTEND;TZID=Brazil/East;VALUE=DATE-TIME:20231212T190000
DTSTAMP;VALUE=DATE-TIME:20260421T060532Z
UID:c6d89bd41fed424eb681f16557c79f52@www.goiania.go.leg.br
CONTACT:VEREADOR RONILSON REIS
CREATED;VALUE=DATE-TIME:20230914T152006Z
LAST-MODIFIED;VALUE=DATE-TIME:20230914T152023Z
LOCATION:PLENÁRIO TRAJANO GUIMARÃES
URL:https://www.goiania.go.leg.br/sala-de-imprensa/eventos/sessao-solene-p
 ara-a-entrega-da-medalha-venerendo-de-freitas-borges-para-homenagear-a-ban
 da-da-policia-militar-do-estado-de-goias
END:VEVENT
BEGIN:VTIMEZONE
TZID:Brazil/East
X-LIC-LOCATION:Brazil/East
BEGIN:DAYLIGHT
DTSTART;VALUE=DATE-TIME:20231015T010000
TZNAME:BRST
TZOFFSETFROM:-0300
TZOFFSETTO:-0200
END:DAYLIGHT
END:VTIMEZONE
END:VCALENDAR
