BEGIN:VCALENDAR
VERSION:2.0
PRODID:-//Plone.org//NONSGML plone.app.event//EN
X-WR-TIMEZONE:Brazil/East
BEGIN:VEVENT
SUMMARY:SESSÃO SOLENE PARA A ENTREGA DA MEDALHA VENERENADO DE FREITAS.
DTSTART;TZID=Brazil/East;VALUE=DATE-TIME:20240405T100000
DTEND;TZID=Brazil/East;VALUE=DATE-TIME:20240405T120000
DTSTAMP;VALUE=DATE-TIME:20260421T080940Z
UID:e0f11cc5bafa45169847cb11674be333@www.goiania.go.leg.br
CONTACT:VEREADOR ANDERSON SALES - BOKÃO
CREATED;VALUE=DATE-TIME:20240401T210722Z
LAST-MODIFIED;VALUE=DATE-TIME:20240402T105220Z
LOCATION:AUDITÓRIO CARLOS EURICO
URL:https://www.goiania.go.leg.br/sala-de-imprensa/eventos/sessao-solene-p
 ara-a-entrega-da-medalha-venerenado-de-freitas
END:VEVENT
BEGIN:VTIMEZONE
TZID:Brazil/East
X-LIC-LOCATION:Brazil/East
BEGIN:STANDARD
DTSTART;VALUE=DATE-TIME:20240217T230000
TZNAME:BRT
TZOFFSETFROM:-0200
TZOFFSETTO:-0300
END:STANDARD
END:VTIMEZONE
END:VCALENDAR
