BEGIN:VCALENDAR
VERSION:2.0
PRODID:-//Plone.org//NONSGML plone.app.event//EN
X-WR-TIMEZONE:Brazil/East
BEGIN:VEVENT
SUMMARY:SESSÃO SOLENE PARA A ENTREGA DA MEDALHA IRIS REZENDE MACHADO.
DTSTART;TZID=Brazil/East;VALUE=DATE-TIME:20241107T190000
DTEND;TZID=Brazil/East;VALUE=DATE-TIME:20241107T220000
DTSTAMP;VALUE=DATE-TIME:20260419T202239Z
UID:31e7483a6f4b4137bc5a1f25fb5485ae@www.goiania.go.leg.br
CONTACT:VEREADOR ANDERSON SALES - BOKÃO
CREATED;VALUE=DATE-TIME:20240219T212141Z
LAST-MODIFIED;VALUE=DATE-TIME:20240219T212153Z
LOCATION:PLENÁRIO TRAJANO GUIMARÃES
URL:https://www.goiania.go.leg.br/sala-de-imprensa/eventos/sessao-solene-p
 ara-a-entrega-da-medalha-iris-rezende-machado
END:VEVENT
BEGIN:VTIMEZONE
TZID:Brazil/East
X-LIC-LOCATION:Brazil/East
BEGIN:DAYLIGHT
DTSTART;VALUE=DATE-TIME:20241020T010000
TZNAME:BRST
TZOFFSETFROM:-0300
TZOFFSETTO:-0200
END:DAYLIGHT
END:VTIMEZONE
END:VCALENDAR
