BEGIN:VCALENDAR
VERSION:2.0
PRODID:-//Plone.org//NONSGML plone.app.event//EN
X-WR-TIMEZONE:Brazil/East
BEGIN:VEVENT
SUMMARY:SESSÃO SOLENE PARA A ENTREGA DA MEDALHA FRANCISCO JANUÁRIO AOS 1
 64 ANOS DA PM/GO.
DTSTART;TZID=Brazil/East;VALUE=DATE-TIME:20220803T170000
DTEND;TZID=Brazil/East;VALUE=DATE-TIME:20220803T190000
DTSTAMP;VALUE=DATE-TIME:20260421T081018Z
UID:f517366d95644926ac6c5386873ed8eb@www.goiania.go.leg.br
CONTACT:VEREADOR ANSELMO PEREIRA
CREATED;VALUE=DATE-TIME:20220209T123904Z
LAST-MODIFIED;VALUE=DATE-TIME:20220209T123922Z
LOCATION:PLENÁRIO TRAJANO GUIMARÃES
URL:https://www.goiania.go.leg.br/sala-de-imprensa/eventos/sessao-solene-p
 ara-a-entrega-da-medalha-francisco-januario-aos-164-anos-da-pm-go
END:VEVENT
BEGIN:VTIMEZONE
TZID:Brazil/East
X-LIC-LOCATION:Brazil/East
BEGIN:STANDARD
DTSTART;VALUE=DATE-TIME:20220219T230000
TZNAME:BRT
TZOFFSETFROM:-0200
TZOFFSETTO:-0300
END:STANDARD
END:VTIMEZONE
END:VCALENDAR
