BEGIN:VCALENDAR
VERSION:2.0
PRODID:-//Plone.org//NONSGML plone.app.event//EN
X-WR-TIMEZONE:Brazil/East
BEGIN:VEVENT
SUMMARY:SESSÃO SOLENE PARA A ENTREGA DA MEDALHA COMENDA ODILIA DE BRITO\,
  HOMENAGEANDO AQUELES QUE SE DESTACARAM COMO PROFESSORES.
DTSTART;TZID=Brazil/East;VALUE=DATE-TIME:20241031T190000
DTEND;TZID=Brazil/East;VALUE=DATE-TIME:20241031T220000
DTSTAMP;VALUE=DATE-TIME:20260421T070621Z
UID:927d87b698254bcfa444fd65e8fee1e5@www.goiania.go.leg.br
CONTACT:VEREADOR ISAÍAS RIBEIRO
CREATED;VALUE=DATE-TIME:20240930T153832Z
LAST-MODIFIED;VALUE=DATE-TIME:20241030T151016Z
LOCATION:PLENÁRIO TRAJANO GUIMARÃES
URL:https://www.goiania.go.leg.br/sala-de-imprensa/eventos/sessao-solene-p
 ara-a-entrega-da-medalha-comenda-odilia-de-brito-homenageando-aqueles-que-
 se-destacaram-como-professores
END:VEVENT
BEGIN:VTIMEZONE
TZID:Brazil/East
X-LIC-LOCATION:Brazil/East
BEGIN:DAYLIGHT
DTSTART;VALUE=DATE-TIME:20241020T010000
TZNAME:BRST
TZOFFSETFROM:-0300
TZOFFSETTO:-0200
END:DAYLIGHT
END:VTIMEZONE
END:VCALENDAR
