BEGIN:VCALENDAR
VERSION:2.0
PRODID:-//Plone.org//NONSGML plone.app.event//EN
X-WR-TIMEZONE:Brazil/East
BEGIN:VEVENT
SUMMARY:SESSÃO SOLENE PARA A ENTREGA DA MEDALHA AMYN JOSÉ DAHER EM HOMEN
 AGEM AOS PROFISSIONAIS QUE SE DESTACAM NA MEDICINA GOIANIENSE.
DTSTART;TZID=Brazil/East;VALUE=DATE-TIME:20261023T190000
DTEND;TZID=Brazil/East;VALUE=DATE-TIME:20261023T220000
DTSTAMP;VALUE=DATE-TIME:20260421T101659Z
UID:6f943c93ef3f40d28cb6378a9bf506bf@www.goiania.go.leg.br
CONTACT:VEREADOR THIALU GUIOTTI - LUAN ALVES
CREATED;VALUE=DATE-TIME:20260212T143228Z
LAST-MODIFIED;VALUE=DATE-TIME:20260311T122806Z
LOCATION:PLENÁRIO TRAJANO GUIMARÃES
URL:https://www.goiania.go.leg.br/sala-de-imprensa/eventos/sessao-solene-p
 ara-a-entrega-da-medalha-amyn-jose-daher-em-homenagem-aos-profissionais-qu
 e-se-destacam-na-medicina-goianiense
END:VEVENT
BEGIN:VTIMEZONE
TZID:Brazil/East
X-LIC-LOCATION:Brazil/East
BEGIN:DAYLIGHT
DTSTART;VALUE=DATE-TIME:20261018T010000
TZNAME:BRST
TZOFFSETFROM:-0300
TZOFFSETTO:-0200
END:DAYLIGHT
END:VTIMEZONE
END:VCALENDAR
