BEGIN:VCALENDAR
VERSION:2.0
PRODID:-//Plone.org//NONSGML plone.app.event//EN
X-WR-TIMEZONE:Brazil/East
BEGIN:VEVENT
SUMMARY:SESSÃO SOLENE PARA A ENTREGA DA COMENDA AO MÉRITO JÚLIO VILELA 
 EM HOMENAGEM AO DIA DA CULTURA.
DTSTART;TZID=Brazil/East;VALUE=DATE-TIME:20260624T190000
DTEND;TZID=Brazil/East;VALUE=DATE-TIME:20260624T220000
DTSTAMP;VALUE=DATE-TIME:20260420T160310Z
UID:37b30fa0432d49f3995252f4ed6ad94d@www.goiania.go.leg.br
CONTACT:VEREADOR ANSELMO PEREIRA
CREATED;VALUE=DATE-TIME:20260202T140041Z
LAST-MODIFIED;VALUE=DATE-TIME:20260202T140058Z
LOCATION:AUDITÓRIO JAIME CÂMARA
URL:https://www.goiania.go.leg.br/sala-de-imprensa/eventos/sessao-solene-p
 ara-a-entrega-da-comenda-ao-merito-julio-vilela-em-homenagem-ao-dia-da-cul
 tura
END:VEVENT
BEGIN:VTIMEZONE
TZID:Brazil/East
X-LIC-LOCATION:Brazil/East
BEGIN:STANDARD
DTSTART;VALUE=DATE-TIME:20260221T230000
TZNAME:BRT
TZOFFSETFROM:-0200
TZOFFSETTO:-0300
END:STANDARD
END:VTIMEZONE
END:VCALENDAR
