BEGIN:VCALENDAR
VERSION:2.0
PRODID:-//Plone.org//NONSGML plone.app.event//EN
X-WR-TIMEZONE:Brazil/East
BEGIN:VEVENT
SUMMARY:SESSÃO SOLENE PARA A AOUTORGA DO TÍTULO DE CIDADÃ GOIANIENSE A 
 SENHORA NÁRCIA KELLY ALVES DA SILVA.
DTSTART;TZID=Brazil/East;VALUE=DATE-TIME:20260323T190000
DTEND;TZID=Brazil/East;VALUE=DATE-TIME:20260323T220000
DTSTAMP;VALUE=DATE-TIME:20260420T131314Z
UID:e32b3290a8af492cb4a3feed4aae63f3@www.goiania.go.leg.br
CONTACT:VEREADOR ANSELMO PEREIRA
CREATED;VALUE=DATE-TIME:20260323T221149Z
LAST-MODIFIED;VALUE=DATE-TIME:20260323T221203Z
LOCATION:AUDITÓRIO JAIME CÂMARA
URL:https://www.goiania.go.leg.br/sala-de-imprensa/eventos/sessao-solene-p
 ara-a-aoutorga-do-titulo-de-cidada-goianiense-a-senhora-narcia-kelly-alves
 -da-silva
END:VEVENT
BEGIN:VTIMEZONE
TZID:Brazil/East
X-LIC-LOCATION:Brazil/East
BEGIN:STANDARD
DTSTART;VALUE=DATE-TIME:20260221T230000
TZNAME:BRT
TZOFFSETFROM:-0200
TZOFFSETTO:-0300
END:STANDARD
END:VTIMEZONE
END:VCALENDAR
