BEGIN:VCALENDAR
VERSION:2.0
PRODID:-//Plone.org//NONSGML plone.app.event//EN
X-WR-TIMEZONE:Brazil/East
BEGIN:VEVENT
SUMMARY:SESSÃO SOLENE ENTREGA DA COMENDA JERÔNIMO JOSÉ BATISTA E HOMENA
 GEM AO DIA DO ADVOGADO.
DTSTART;TZID=Brazil/East;VALUE=DATE-TIME:20241211T170000
DTEND;TZID=Brazil/East;VALUE=DATE-TIME:20241211T180000
DTSTAMP;VALUE=DATE-TIME:20260419T094124Z
UID:322d1806f75a424a8451cb5ca44ec93d@www.goiania.go.leg.br
CONTACT:VEREADOR ANSELMO PEREIRA
CREATED;VALUE=DATE-TIME:20241022T133233Z
LAST-MODIFIED;VALUE=DATE-TIME:20241205T184932Z
LOCATION:PLENÁRIO TRAJANO GUIMARÃES
URL:https://www.goiania.go.leg.br/sala-de-imprensa/eventos/sessao-solene-e
 ntrega-da-comenda-jeronimo-jose-batista-e-homenagem-ao-dia-do-advogado
END:VEVENT
BEGIN:VTIMEZONE
TZID:Brazil/East
X-LIC-LOCATION:Brazil/East
BEGIN:DAYLIGHT
DTSTART;VALUE=DATE-TIME:20241020T010000
TZNAME:BRST
TZOFFSETFROM:-0300
TZOFFSETTO:-0200
END:DAYLIGHT
END:VTIMEZONE
END:VCALENDAR
