BEGIN:VCALENDAR
VERSION:2.0
PRODID:-//Plone.org//NONSGML plone.app.event//EN
X-WR-TIMEZONE:Brazil/East
BEGIN:VEVENT
SUMMARY:SESSÃO SOLENE EM HOMENAGEM AO DIA DA CULTURA E ENTREGA DA COMENDA
   AO MÉRITO JÚLIO VILELA.
DTSTART;TZID=Brazil/East;VALUE=DATE-TIME:20250530T190000
DTEND;TZID=Brazil/East;VALUE=DATE-TIME:20250530T220000
DTSTAMP;VALUE=DATE-TIME:20260419T094209Z
UID:63743c50fded48bca3a64b5ef1b68c60@www.goiania.go.leg.br
CONTACT:VEREADOR ANSELMO PEREIRA
CREATED;VALUE=DATE-TIME:20250429T112337Z
LAST-MODIFIED;VALUE=DATE-TIME:20250429T112345Z
LOCATION:PLENÁRIO TRAJANO GUIMARÃES
URL:https://www.goiania.go.leg.br/sala-de-imprensa/eventos/sessao-solene-e
 m-homenagem-ao-dia-da-cultura-e-entrega-da-comenda-ao-merito-julio-vilela
END:VEVENT
BEGIN:VTIMEZONE
TZID:Brazil/East
X-LIC-LOCATION:Brazil/East
BEGIN:STANDARD
DTSTART;VALUE=DATE-TIME:20250215T230000
TZNAME:BRT
TZOFFSETFROM:-0200
TZOFFSETTO:-0300
END:STANDARD
END:VTIMEZONE
END:VCALENDAR
