BEGIN:VCALENDAR
VERSION:2.0
PRODID:-//Plone.org//NONSGML plone.app.event//EN
X-WR-TIMEZONE:Brazil/East
BEGIN:VEVENT
SUMMARY:SESSÃO SOLENE DO MÉRITO AMBIENTAL LEOLÍDIO DI RAMOS CAIADO.
DTSTART;TZID=Brazil/East;VALUE=DATE-TIME:20250613T190000
DTEND;TZID=Brazil/East;VALUE=DATE-TIME:20250613T220000
DTSTAMP;VALUE=DATE-TIME:20260419T094123Z
UID:232ff2410f954bc9bee330545f70591a@www.goiania.go.leg.br
CONTACT:VEREADOR ANSELMO PEREIRA E LUAN ALVES
CREATED;VALUE=DATE-TIME:20250509T121414Z
LAST-MODIFIED;VALUE=DATE-TIME:20250509T121433Z
LOCATION:AUDITÓRIO JAIME CÂMARA
URL:https://www.goiania.go.leg.br/sala-de-imprensa/eventos/sessao-solene-d
 o-merito-ambiental-leolidio-di-ramos-caiado
END:VEVENT
BEGIN:VTIMEZONE
TZID:Brazil/East
X-LIC-LOCATION:Brazil/East
BEGIN:STANDARD
DTSTART;VALUE=DATE-TIME:20250215T230000
TZNAME:BRT
TZOFFSETFROM:-0200
TZOFFSETTO:-0300
END:STANDARD
END:VTIMEZONE
END:VCALENDAR
