BEGIN:VCALENDAR
VERSION:2.0
PRODID:-//Plone.org//NONSGML plone.app.event//EN
X-WR-TIMEZONE:Brazil/East
BEGIN:VEVENT
SUMMARY:SESSÃO SOLENE DE OUTORGA DO TÍTULO HONORÍFICO DE CIDADÃ GOIANI
 ENSE À SENHORA ELIANY AUXILIADORA COUTINHO MORAIS.
DTSTART;TZID=Brazil/East;VALUE=DATE-TIME:20210706T170000
DTEND;TZID=Brazil/East;VALUE=DATE-TIME:20210706T190000
DTSTAMP;VALUE=DATE-TIME:20260419T094209Z
UID:d93c14af2a64477d940d4bc782f85601@www.goiania.go.leg.br
CONTACT:VEREADOR ANSELMO PEREIRA
CREATED;VALUE=DATE-TIME:20210625T133618Z
LAST-MODIFIED;VALUE=DATE-TIME:20210625T133636Z
LOCATION:PLENÁRIO TRAJANO GUIMARÃES
URL:https://www.goiania.go.leg.br/sala-de-imprensa/eventos/sessao-solene-d
 e-outorga-do-titulo-honorifico-de-cidada-goianiense-a-senhora-eliany-auxil
 iadora-coutinho-morais
END:VEVENT
BEGIN:VTIMEZONE
TZID:Brazil/East
X-LIC-LOCATION:Brazil/East
BEGIN:STANDARD
DTSTART;VALUE=DATE-TIME:20210220T230000
TZNAME:BRT
TZOFFSETFROM:-0200
TZOFFSETTO:-0300
END:STANDARD
END:VTIMEZONE
END:VCALENDAR
