BEGIN:VCALENDAR
VERSION:2.0
PRODID:-//Plone.org//NONSGML plone.app.event//EN
X-WR-TIMEZONE:Brazil/East
BEGIN:VEVENT
SUMMARY:SESSÃO SOLENE DE OUTORGA DA COMEDA HAILÉ SELASSSIÊ DE GOIÁS PI
 NHEIRO.
DTSTART;TZID=Brazil/East;VALUE=DATE-TIME:20250609T190000
DTEND;TZID=Brazil/East;VALUE=DATE-TIME:20250609T220000
DTSTAMP;VALUE=DATE-TIME:20260419T104819Z
UID:38dc5c3a15c644c599988978875a4520@www.goiania.go.leg.br
CONTACT:VEREADOR ANSELMO PEREIRA E LUAN ALVES
CREATED;VALUE=DATE-TIME:20250220T132833Z
LAST-MODIFIED;VALUE=DATE-TIME:20250320T130531Z
LOCATION:AUDITÓRIO JAIME CÂMARA
URL:https://www.goiania.go.leg.br/sala-de-imprensa/eventos/sessao-solene-d
 e-outorga-da-comeda-haile-selasssie-de-goias-pinheiro
END:VEVENT
BEGIN:VTIMEZONE
TZID:Brazil/East
X-LIC-LOCATION:Brazil/East
BEGIN:STANDARD
DTSTART;VALUE=DATE-TIME:20250215T230000
TZNAME:BRT
TZOFFSETFROM:-0200
TZOFFSETTO:-0300
END:STANDARD
END:VTIMEZONE
END:VCALENDAR
