BEGIN:VCALENDAR
VERSION:2.0
PRODID:-//Plone.org//NONSGML plone.app.event//EN
X-WR-TIMEZONE:Brazil/East
BEGIN:VEVENT
SUMMARY:SESSÃO SOLENE DE ENTREGA DO TÍTULO HONORÍFICO DE CIDADANIA GOIA
 NIENSE AO SENHOR LUCAS DE GODOI SILVA.
DTSTART;TZID=Brazil/East;VALUE=DATE-TIME:20221021T190000
DTEND;TZID=Brazil/East;VALUE=DATE-TIME:20221021T200000
DTSTAMP;VALUE=DATE-TIME:20260419T104915Z
UID:1bd7957c5d584486acaaed285502e31a@www.goiania.go.leg.br
CONTACT:VEREADOR JOÃOZINHO GUIMARÃES
CREATED;VALUE=DATE-TIME:20220829T155131Z
LAST-MODIFIED;VALUE=DATE-TIME:20221011T195823Z
LOCATION:PLENÁRIO TRAJANO GUIMARÃES
URL:https://www.goiania.go.leg.br/sala-de-imprensa/eventos/sessao-solene-d
 e-entrega-do-titulo-honorifico-de-cidadania-goianiense-ao-senhor-lucas-de-
 godoi-silva
END:VEVENT
BEGIN:VTIMEZONE
TZID:Brazil/East
X-LIC-LOCATION:Brazil/East
BEGIN:DAYLIGHT
DTSTART;VALUE=DATE-TIME:20221016T010000
TZNAME:BRST
TZOFFSETFROM:-0300
TZOFFSETTO:-0200
END:DAYLIGHT
END:VTIMEZONE
END:VCALENDAR
