BEGIN:VCALENDAR
VERSION:2.0
PRODID:-//Plone.org//NONSGML plone.app.event//EN
X-WR-TIMEZONE:Brazil/East
BEGIN:VEVENT
SUMMARY:SESSÃO SOLENE DE ENTREGA DO TÍTULO DE CIDADÃO GOIANIENSE AO SEN
 HOR DAGOBERTO PEREIRA SOUZA.
DTSTART;TZID=Brazil/East;VALUE=DATE-TIME:20230901T190000
DTEND;TZID=Brazil/East;VALUE=DATE-TIME:20230901T210000
DTSTAMP;VALUE=DATE-TIME:20260419T105313Z
UID:610db6c5954d4c73bab5bbad6a91f698@www.goiania.go.leg.br
CONTACT:VEREADOR DENÍCIO TRINDADE
CREATED;VALUE=DATE-TIME:20230823T144240Z
LAST-MODIFIED;VALUE=DATE-TIME:20230823T144310Z
LOCATION:PLENÁRIO TRAJANO GUIMARÃES
URL:https://www.goiania.go.leg.br/sala-de-imprensa/eventos/sessao-solene-d
 e-entrega-do-titulo-de-cidadao-goianiense-ao-senhor-dagoberto-pereira-souz
 a
END:VEVENT
BEGIN:VTIMEZONE
TZID:Brazil/East
X-LIC-LOCATION:Brazil/East
BEGIN:STANDARD
DTSTART;VALUE=DATE-TIME:20230225T230000
TZNAME:BRT
TZOFFSETFROM:-0200
TZOFFSETTO:-0300
END:STANDARD
END:VTIMEZONE
END:VCALENDAR
