BEGIN:VCALENDAR
VERSION:2.0
PRODID:-//Plone.org//NONSGML plone.app.event//EN
X-WR-TIMEZONE:Brazil/East
BEGIN:VEVENT
SUMMARY:SESSÃO SOLENE DE ENTREGA DO TÍTULO DE CIDADÃO GOIANIENSE AO SEN
 HOR ALEXANDRE PIRES DO NASCIMENTO.
DTSTART;TZID=Brazil/East;VALUE=DATE-TIME:20251022T100000
DTEND;TZID=Brazil/East;VALUE=DATE-TIME:20251022T120000
DTSTAMP;VALUE=DATE-TIME:20260421T054105Z
UID:0de6a93bf80d40678cbd8c70e3eb2814@www.goiania.go.leg.br
CONTACT:VEREADOR LUCAS KITÃO
CREATED;VALUE=DATE-TIME:20251014T122131Z
LAST-MODIFIED;VALUE=DATE-TIME:20251014T122148Z
LOCATION:PLENÁRIO TRAJANO GUIMARÃES
URL:https://www.goiania.go.leg.br/sala-de-imprensa/eventos/sessao-solene-d
 e-entrega-do-titulo-de-cidadao-goianiense-ao-senhor-alexandre-pires-do-nas
 cimento
END:VEVENT
BEGIN:VTIMEZONE
TZID:Brazil/East
X-LIC-LOCATION:Brazil/East
BEGIN:DAYLIGHT
DTSTART;VALUE=DATE-TIME:20251019T010000
TZNAME:BRST
TZOFFSETFROM:-0300
TZOFFSETTO:-0200
END:DAYLIGHT
END:VTIMEZONE
END:VCALENDAR
