BEGIN:VCALENDAR
VERSION:2.0
PRODID:-//Plone.org//NONSGML plone.app.event//EN
X-WR-TIMEZONE:Brazil/East
BEGIN:VEVENT
SUMMARY:SESSÃO SOLENE DE ENTREGA DO TÍTULO DE CIDADANIA GOIANIENSE AO SE
 NHOR RAFAEL DE LA TORRE VARGAS.
DTSTART;TZID=Brazil/East;VALUE=DATE-TIME:20221011T190000
DTEND;TZID=Brazil/East;VALUE=DATE-TIME:20221011T210000
DTSTAMP;VALUE=DATE-TIME:20260419T104901Z
UID:7579a070a579451a92ce9f85f02c8c2e@www.goiania.go.leg.br
CONTACT:VEREADOR JOÃOZINHO GUIMARÃES
CREATED;VALUE=DATE-TIME:20220829T155451Z
LAST-MODIFIED;VALUE=DATE-TIME:20220829T155509Z
LOCATION:PLENÁRIO TRAJANO GUIMARÃES
URL:https://www.goiania.go.leg.br/sala-de-imprensa/eventos/sessao-solene-d
 e-entrega-do-titulo-de-cidadania-goianiense-ao-senhor-rafael-de-la-torre-v
 argas
END:VEVENT
BEGIN:VTIMEZONE
TZID:Brazil/East
X-LIC-LOCATION:Brazil/East
BEGIN:STANDARD
DTSTART;VALUE=DATE-TIME:20220219T230000
TZNAME:BRT
TZOFFSETFROM:-0200
TZOFFSETTO:-0300
END:STANDARD
END:VTIMEZONE
END:VCALENDAR
