BEGIN:VCALENDAR
VERSION:2.0
PRODID:-//Plone.org//NONSGML plone.app.event//EN
X-WR-TIMEZONE:Brazil/East
BEGIN:VEVENT
SUMMARY:SESSÃO SOLENE DE ENTREGA DE TÍTULO HONORÍFICO DE CIDADÃO GOIAN
 IENSE AOS SENHORES JOÃO BATISTA DE QUEIROZ E IZAÍAS PEREIRA DA CONCEIÇ
 ÃO.
DTSTART;TZID=Brazil/East;VALUE=DATE-TIME:20200219T193000
DTEND;TZID=Brazil/East;VALUE=DATE-TIME:20200219T220000
DTSTAMP;VALUE=DATE-TIME:20260421T073109Z
UID:3ce4b6c781454e88a143b4fe1997b48e@www.goiania.go.leg.br
CONTACT:VEREADOR OSÉIAS VARÃO
CREATED;VALUE=DATE-TIME:20200108T120106Z
LAST-MODIFIED;VALUE=DATE-TIME:20200108T120110Z
LOCATION:PLENÁRIO TRAJANO GUIMARÃES
URL:https://www.goiania.go.leg.br/sala-de-imprensa/eventos/sessao-solene-d
 e-entrega-de-titulo-honorifico-de-cidadao-goianiense-aos-senhores-joao-bat
 ista-de-queiroz-e-izaias-pereira-da-conceicao-1
END:VEVENT
BEGIN:VTIMEZONE
TZID:Brazil/East
X-LIC-LOCATION:Brazil/East
BEGIN:STANDARD
DTSTART;VALUE=DATE-TIME:20200215T230000
TZNAME:BRT
TZOFFSETFROM:-0200
TZOFFSETTO:-0300
END:STANDARD
END:VTIMEZONE
END:VCALENDAR
