BEGIN:VCALENDAR
VERSION:2.0
PRODID:-//Plone.org//NONSGML plone.app.event//EN
X-WR-TIMEZONE:Brazil/East
BEGIN:VEVENT
SUMMARY:SESSÃO SOLENE DE ENTREGA DE TÍTULO HONORÍFICO DE CIDADÃO GOIAN
 IENSE AO SENHOR HARO FERREIRA DE OLIVEIRA.
DTSTART;TZID=Brazil/East;VALUE=DATE-TIME:20180504T193000
DTEND;TZID=Brazil/East;VALUE=DATE-TIME:20180504T220000
DTSTAMP;VALUE=DATE-TIME:20260419T174404Z
UID:b2aa13a4a9da491e956ece47a218259a@www.goiania.go.leg.br
CONTACT:VEREADOR ANSELMO PEREIRA
CREATED;VALUE=DATE-TIME:20180403T141840Z
LAST-MODIFIED;VALUE=DATE-TIME:20180403T141853Z
LOCATION:PLENÁRIO TRAJANO GUIMARÃES
URL:https://www.goiania.go.leg.br/sala-de-imprensa/eventos/sessao-solene-d
 e-entrega-de-titulo-honorifico-de-cidadao-goianiense-ao-senhor-haro-ferrei
 ra-de-oliveira
END:VEVENT
BEGIN:VTIMEZONE
TZID:Brazil/East
X-LIC-LOCATION:Brazil/East
BEGIN:STANDARD
DTSTART;VALUE=DATE-TIME:20180217T230000
TZNAME:BRT
TZOFFSETFROM:-0200
TZOFFSETTO:-0300
END:STANDARD
END:VTIMEZONE
END:VCALENDAR
