BEGIN:VCALENDAR
VERSION:2.0
PRODID:-//Plone.org//NONSGML plone.app.event//EN
X-WR-TIMEZONE:Brazil/East
BEGIN:VEVENT
SUMMARY:SESSÃO SOLENE DE ENTREGA DE TÍTULO HONORÍFICO DE CIDADANIA GOIA
 NIENSE AO SENHOR MARCOS FREITAS PEREIRA.
DTSTART;TZID=Brazil/East;VALUE=DATE-TIME:20211207T170000
DTEND;TZID=Brazil/East;VALUE=DATE-TIME:20211207T190000
DTSTAMP;VALUE=DATE-TIME:20260419T120925Z
UID:1cc105d87092422785faca15a8d0b36b@www.goiania.go.leg.br
CONTACT:VEREADOR LEANDRO SENA
CREATED;VALUE=DATE-TIME:20211103T103422Z
LAST-MODIFIED;VALUE=DATE-TIME:20211103T103428Z
LOCATION:PLENÁRIO TRAJANO GUIMARÃES
URL:https://www.goiania.go.leg.br/sala-de-imprensa/eventos/sessao-solene-d
 e-entrega-de-titulo-honorifico-de-cidadania-goianiense-ao-senhor-marcos-fr
 eitas-pereira
END:VEVENT
BEGIN:VTIMEZONE
TZID:Brazil/East
X-LIC-LOCATION:Brazil/East
BEGIN:DAYLIGHT
DTSTART;VALUE=DATE-TIME:20211017T010000
TZNAME:BRST
TZOFFSETFROM:-0300
TZOFFSETTO:-0200
END:DAYLIGHT
END:VTIMEZONE
END:VCALENDAR
