BEGIN:VCALENDAR
VERSION:2.0
PRODID:-//Plone.org//NONSGML plone.app.event//EN
X-WR-TIMEZONE:Brazil/East
BEGIN:VEVENT
SUMMARY:SESSÃO SOLENE DE ENTREGA DE TÍTULO DE CIDADÃO GOIANIENSE PARA A
  SENHORA JULIA HOLANDA.
DTSTART;TZID=Brazil/East;VALUE=DATE-TIME:20240926T100000
DTEND;TZID=Brazil/East;VALUE=DATE-TIME:20240926T120000
DTSTAMP;VALUE=DATE-TIME:20260419T104719Z
UID:cd04df7c365c4272a58d433bef33e42d@www.goiania.go.leg.br
CONTACT:VEREADOR WELTON LEMOS
CREATED;VALUE=DATE-TIME:20240905T123913Z
LAST-MODIFIED;VALUE=DATE-TIME:20240905T123947Z
LOCATION:PLENÁRIO TRAJANO GUIMARÃES
URL:https://www.goiania.go.leg.br/sala-de-imprensa/eventos/sessao-solene-d
 e-entrega-de-titulo-de-cidadao-goianiense-para-a-senhora-julia-holanda
END:VEVENT
BEGIN:VTIMEZONE
TZID:Brazil/East
X-LIC-LOCATION:Brazil/East
BEGIN:STANDARD
DTSTART;VALUE=DATE-TIME:20240217T230000
TZNAME:BRT
TZOFFSETFROM:-0200
TZOFFSETTO:-0300
END:STANDARD
END:VTIMEZONE
END:VCALENDAR
