BEGIN:VCALENDAR
VERSION:2.0
PRODID:-//Plone.org//NONSGML plone.app.event//EN
X-WR-TIMEZONE:Brazil/East
BEGIN:VEVENT
SUMMARY:SESSÃO SOLENE DE ENTREGA DE TÍTULO DE CIDADÃO GOIANIENSE AO SEN
 HOR ALBER JORGE FERREIRA.
DTSTART;TZID=Brazil/East;VALUE=DATE-TIME:20241126T190000
DTEND;TZID=Brazil/East;VALUE=DATE-TIME:20241126T220000
DTSTAMP;VALUE=DATE-TIME:20260419T174441Z
UID:e4246bb3ccc2437aa461fba2ddb1b144@www.goiania.go.leg.br
CONTACT:VEREADOR ANSELMO PEREIRA
CREATED;VALUE=DATE-TIME:20241009T140110Z
LAST-MODIFIED;VALUE=DATE-TIME:20241010T212108Z
LOCATION:PLENÁRIO TRAJANO GUIMARÃES
URL:https://www.goiania.go.leg.br/sala-de-imprensa/eventos/sessao-solene-d
 e-entrega-de-titulo-de-cidadao-goianiense-ao-senhor-alber-jorge-ferreira
END:VEVENT
BEGIN:VTIMEZONE
TZID:Brazil/East
X-LIC-LOCATION:Brazil/East
BEGIN:DAYLIGHT
DTSTART;VALUE=DATE-TIME:20241020T010000
TZNAME:BRST
TZOFFSETFROM:-0300
TZOFFSETTO:-0200
END:DAYLIGHT
END:VTIMEZONE
END:VCALENDAR
