BEGIN:VCALENDAR
VERSION:2.0
PRODID:-//Plone.org//NONSGML plone.app.event//EN
X-WR-TIMEZONE:Brazil/East
BEGIN:VEVENT
SUMMARY:SESSÃO SOLENE DE ENTREGA DE TÍTULO DE CIDADÃO GOIANIENSE À SEN
 HORA MARINA ALMEIDA MORAIS.
DTSTART;TZID=Brazil/East;VALUE=DATE-TIME:20241114T100000
DTEND;TZID=Brazil/East;VALUE=DATE-TIME:20241114T120000
DTSTAMP;VALUE=DATE-TIME:20260419T145922Z
UID:5b8b1414ca534137a3c9bec15f9e183d@www.goiania.go.leg.br
CONTACT:VEREADOR LÉO JOSÉ
CREATED;VALUE=DATE-TIME:20241106T212803Z
LAST-MODIFIED;VALUE=DATE-TIME:20241106T212817Z
LOCATION:PLENÁRIO TRAJANO GUIMARÃES
URL:https://www.goiania.go.leg.br/sala-de-imprensa/eventos/sessao-solene-d
 e-entrega-de-titulo-de-cidadao-goianiense-a-senhora-marina-almeida-morais
END:VEVENT
BEGIN:VTIMEZONE
TZID:Brazil/East
X-LIC-LOCATION:Brazil/East
BEGIN:DAYLIGHT
DTSTART;VALUE=DATE-TIME:20241020T010000
TZNAME:BRST
TZOFFSETFROM:-0300
TZOFFSETTO:-0200
END:DAYLIGHT
END:VTIMEZONE
END:VCALENDAR
