BEGIN:VCALENDAR
VERSION:2.0
PRODID:-//Plone.org//NONSGML plone.app.event//EN
X-WR-TIMEZONE:Brazil/East
BEGIN:VEVENT
SUMMARY:SESSÃO SOLENE DE ENTREGA DE TÍTULO DE CIDADANIA GOIANIENSE PARA 
 SANDRAMARA\, LUANA\, PEDRO.
DTSTART;TZID=Brazil/East;VALUE=DATE-TIME:20230427T100000
DTEND;TZID=Brazil/East;VALUE=DATE-TIME:20230427T120000
DTSTAMP;VALUE=DATE-TIME:20260419T133142Z
UID:e242268f8caa4fefba3cb58b1fb7dd5f@www.goiania.go.leg.br
CONTACT:VEREADOR ROMÁRIO POLICARPO
CREATED;VALUE=DATE-TIME:20230410T230131Z
LAST-MODIFIED;VALUE=DATE-TIME:20230413T121013Z
LOCATION:PLENÁRIO TRAJANO GUIMARÃES
URL:https://www.goiania.go.leg.br/sala-de-imprensa/eventos/sessao-solene-d
 e-entrega-de-titulo-de-cidadania-goianiense-para-sandramara-luana-pedro
END:VEVENT
BEGIN:VTIMEZONE
TZID:Brazil/East
X-LIC-LOCATION:Brazil/East
BEGIN:STANDARD
DTSTART;VALUE=DATE-TIME:20230225T230000
TZNAME:BRT
TZOFFSETFROM:-0200
TZOFFSETTO:-0300
END:STANDARD
END:VTIMEZONE
END:VCALENDAR
