BEGIN:VCALENDAR
VERSION:2.0
PRODID:-//Plone.org//NONSGML plone.app.event//EN
X-WR-TIMEZONE:Brazil/East
BEGIN:VEVENT
SUMMARY:SESSÃO SOLENE DE ENTREGA DE TÍTULO DE CIDADÃ GOIANIENSE À SENH
 ORA TATIANA CARILLY OLIVEIRA ANDRADE.
DTSTART;TZID=Brazil/East;VALUE=DATE-TIME:20251030T190000
DTEND;TZID=Brazil/East;VALUE=DATE-TIME:20251030T220000
DTSTAMP;VALUE=DATE-TIME:20260419T104859Z
UID:dfb1e5f5f7c547c9944a35daad1262b3@www.goiania.go.leg.br
CONTACT:VEREADOR DENÍCIO TRINDADE
CREATED;VALUE=DATE-TIME:20250903T154803Z
LAST-MODIFIED;VALUE=DATE-TIME:20250903T154830Z
LOCATION:PLENÁRIO TRAJANO GUIMARÃES
URL:https://www.goiania.go.leg.br/sala-de-imprensa/eventos/sessao-solene-d
 e-entrega-de-titulo-de-cidada-goianiense-a-senhora-tatiana-carilly-oliveir
 a-andrade
END:VEVENT
BEGIN:VTIMEZONE
TZID:Brazil/East
X-LIC-LOCATION:Brazil/East
BEGIN:DAYLIGHT
DTSTART;VALUE=DATE-TIME:20251019T010000
TZNAME:BRST
TZOFFSETFROM:-0300
TZOFFSETTO:-0200
END:DAYLIGHT
END:VTIMEZONE
END:VCALENDAR
