BEGIN:VCALENDAR
VERSION:2.0
PRODID:-//Plone.org//NONSGML plone.app.event//EN
X-WR-TIMEZONE:Brazil/East
BEGIN:VEVENT
SUMMARY:SESSÃO SOLENE DE ENTREGA DE TÍTULO DE CIDADÃ GOIANIENSE A SENHO
 RA FABIANA SAJORATO.
DTSTART;TZID=Brazil/East;VALUE=DATE-TIME:20251113T170000
DTEND;TZID=Brazil/East;VALUE=DATE-TIME:20251113T190000
DTSTAMP;VALUE=DATE-TIME:20260419T162401Z
UID:eb7e0aec817c4422853d4adb3130bb8c@www.goiania.go.leg.br
CONTACT:VEREADOR WILLIAN VELOSO
CREATED;VALUE=DATE-TIME:20251003T113438Z
LAST-MODIFIED;VALUE=DATE-TIME:20251003T113451Z
LOCATION:AUDITÓRIO CARLOS EURICO
URL:https://www.goiania.go.leg.br/sala-de-imprensa/eventos/sessao-solene-d
 e-entrega-de-titulo-de-cidada-goianiense-a-senhora-fabiana-sajorato
END:VEVENT
BEGIN:VTIMEZONE
TZID:Brazil/East
X-LIC-LOCATION:Brazil/East
BEGIN:DAYLIGHT
DTSTART;VALUE=DATE-TIME:20251019T010000
TZNAME:BRST
TZOFFSETFROM:-0300
TZOFFSETTO:-0200
END:DAYLIGHT
END:VTIMEZONE
END:VCALENDAR
