BEGIN:VCALENDAR
VERSION:2.0
PRODID:-//Plone.org//NONSGML plone.app.event//EN
X-WR-TIMEZONE:Brazil/East
BEGIN:VEVENT
SUMMARY:SESSÃO SOLENE DE ENTREGA DE TÍTULO AOS SENHORES MANOEL DIAS E CI
 RO FERREIRA GOMES
DTSTART;TZID=Brazil/East;VALUE=DATE-TIME:20160624T150000
DTEND;TZID=Brazil/East;VALUE=DATE-TIME:20160624T180000
DTSTAMP;VALUE=DATE-TIME:20260421T070547Z
UID:ced54fad8e524188a17582df92384add@www.goiania.go.leg.br
CONTACT:VER. PAULINHO GRAUS
CREATED;VALUE=DATE-TIME:20171208T111312Z
LAST-MODIFIED;VALUE=DATE-TIME:20171208T112920Z
LOCATION:PLENÁRIO TRAJANO GUIMARÃES
URL:https://www.goiania.go.leg.br/sala-de-imprensa/eventos/sessao-solene-d
 e-entrega-de-titulo-aos-senhores-manoel-dias-e-ciro-ferreira-gomes
END:VEVENT
BEGIN:VTIMEZONE
TZID:Brazil/East
X-LIC-LOCATION:Brazil/East
BEGIN:STANDARD
DTSTART;VALUE=DATE-TIME:20160220T230000
TZNAME:BRT
TZOFFSETFROM:-0200
TZOFFSETTO:-0300
END:STANDARD
END:VTIMEZONE
END:VCALENDAR
