BEGIN:VCALENDAR
VERSION:2.0
PRODID:-//Plone.org//NONSGML plone.app.event//EN
X-WR-TIMEZONE:Brazil/East
BEGIN:VEVENT
SUMMARY:SESSÃO SOLENE DE ENTREGA DE TÍTULO AO SENHOR VALDINEI VALÉRIO D
 A SILVA.
DTSTART;TZID=Brazil/East;VALUE=DATE-TIME:20200327T193000
DTEND;TZID=Brazil/East;VALUE=DATE-TIME:20200327T220000
DTSTAMP;VALUE=DATE-TIME:20260419T174235Z
UID:5519f1403b414f6f9c8304a640b6cc1b@www.goiania.go.leg.br
CONTACT:VEREADOR EMILSON PEREIRA
CREATED;VALUE=DATE-TIME:20200305T125639Z
LAST-MODIFIED;VALUE=DATE-TIME:20200305T125803Z
LOCATION:PLENÁRIO TRAJANO GUIMARÃES
URL:https://www.goiania.go.leg.br/sala-de-imprensa/eventos/sessao-solene-d
 e-entrega-de-titulo-ao-senhor-valdinei-valerio-da-silva
END:VEVENT
BEGIN:VTIMEZONE
TZID:Brazil/East
X-LIC-LOCATION:Brazil/East
BEGIN:STANDARD
DTSTART;VALUE=DATE-TIME:20200215T230000
TZNAME:BRT
TZOFFSETFROM:-0200
TZOFFSETTO:-0300
END:STANDARD
END:VTIMEZONE
END:VCALENDAR
