BEGIN:VCALENDAR
VERSION:2.0
PRODID:-//Plone.org//NONSGML plone.app.event//EN
X-WR-TIMEZONE:Brazil/East
BEGIN:VEVENT
SUMMARY:SESSÃO SOLENE DE ENTREGA DE TÍTULO AO SENHOR ULISSES DE SOUSA.
DTSTART;TZID=Brazil/East;VALUE=DATE-TIME:20191206T090000
DTEND;TZID=Brazil/East;VALUE=DATE-TIME:20191206T120000
DTSTAMP;VALUE=DATE-TIME:20260419T174203Z
UID:fed1b854309d4c4d93e2c256a71fbc0a@www.goiania.go.leg.br
CONTACT:VEREADOR FELISBERTO TAVARES
CREATED;VALUE=DATE-TIME:20190919T152102Z
LAST-MODIFIED;VALUE=DATE-TIME:20191003T131039Z
LOCATION:PLENÁRIO TRAJANO GUIMARÃES
URL:https://www.goiania.go.leg.br/sala-de-imprensa/eventos/sessao-solene-d
 e-entrega-de-titulo-ao-senhor-ulisses-de-sousa
END:VEVENT
BEGIN:VTIMEZONE
TZID:Brazil/East
X-LIC-LOCATION:Brazil/East
BEGIN:DAYLIGHT
DTSTART;VALUE=DATE-TIME:20191020T010000
TZNAME:BRST
TZOFFSETFROM:-0300
TZOFFSETTO:-0200
END:DAYLIGHT
END:VTIMEZONE
END:VCALENDAR
