BEGIN:VCALENDAR
VERSION:2.0
PRODID:-//Plone.org//NONSGML plone.app.event//EN
X-WR-TIMEZONE:Brazil/East
BEGIN:VEVENT
SUMMARY:SESSÃO SOLENE DE ENTREGA DE TÍTULO AO SENHOR RICARDO TEIXEIRA.
DTSTART;TZID=Brazil/East;VALUE=DATE-TIME:20170608T193000
DTEND;TZID=Brazil/East;VALUE=DATE-TIME:20170608T220000
DTSTAMP;VALUE=DATE-TIME:20260419T162019Z
UID:1da10176739d49b084ffd7cc1fb8b4c0@www.goiania.go.leg.br
CONTACT:VEREADOR ALYSSON LIMA
CREATED;VALUE=DATE-TIME:20171208T111313Z
LAST-MODIFIED;VALUE=DATE-TIME:20171208T112936Z
LOCATION:PLENÁRIO TRAJANO GUIMARÃES
URL:https://www.goiania.go.leg.br/sala-de-imprensa/eventos/sessao-solene-d
 e-entrega-de-titulo-ao-senhor-ricardo-teixeira
END:VEVENT
BEGIN:VTIMEZONE
TZID:Brazil/East
X-LIC-LOCATION:Brazil/East
BEGIN:STANDARD
DTSTART;VALUE=DATE-TIME:20170218T230000
TZNAME:BRT
TZOFFSETFROM:-0200
TZOFFSETTO:-0300
END:STANDARD
END:VTIMEZONE
END:VCALENDAR
