BEGIN:VCALENDAR
VERSION:2.0
PRODID:-//Plone.org//NONSGML plone.app.event//EN
X-WR-TIMEZONE:Brazil/East
BEGIN:VEVENT
SUMMARY:SESSÃO SOLENE DE ENTREGA DE TÍTULO AO SENHOR LUIZ AUGUSTO PARANH
 OS SAMPAIO.
DTSTART;TZID=Brazil/East;VALUE=DATE-TIME:20190923T193000
DTEND;TZID=Brazil/East;VALUE=DATE-TIME:20190923T220000
DTSTAMP;VALUE=DATE-TIME:20260419T120804Z
UID:e17b85bce4d54d708d25dca51bc4ae9e@www.goiania.go.leg.br
CONTACT:VEREADOR DENÍCIO TRINDADE
CREATED;VALUE=DATE-TIME:20190830T122820Z
LAST-MODIFIED;VALUE=DATE-TIME:20190830T122835Z
LOCATION:PLENÁRIO TRAJANO GUIAMARÃES
URL:https://www.goiania.go.leg.br/sala-de-imprensa/eventos/sessao-solene-d
 e-entrega-de-titulo-ao-senhor-luiz-augusto-paranhos-sampaio
END:VEVENT
BEGIN:VTIMEZONE
TZID:Brazil/East
X-LIC-LOCATION:Brazil/East
BEGIN:STANDARD
DTSTART;VALUE=DATE-TIME:20190216T230000
TZNAME:BRT
TZOFFSETFROM:-0200
TZOFFSETTO:-0300
END:STANDARD
END:VTIMEZONE
END:VCALENDAR
