BEGIN:VCALENDAR
VERSION:2.0
PRODID:-//Plone.org//NONSGML plone.app.event//EN
X-WR-TIMEZONE:Brazil/East
BEGIN:VEVENT
SUMMARY:SESSÃO SOLENE DE ENTREGA DE TÍTULO AO PADRE SEBASTIÃO ROMÁRIO 
 DAMAS - FORA DA CASA DE LEIS.
DTSTART;TZID=Brazil/East;VALUE=DATE-TIME:20160730T203000
DTEND;TZID=Brazil/East;VALUE=DATE-TIME:20160730T220000
DTSTAMP;VALUE=DATE-TIME:20260419T162458Z
UID:64c71650c5fc4524afa49dd02b4b1f23@www.goiania.go.leg.br
CONTACT:VEREADORA CÉLIA VALADÃO
CREATED;VALUE=DATE-TIME:20171208T111312Z
LAST-MODIFIED;VALUE=DATE-TIME:20171208T112922Z
LOCATION:FORA DA CAMARA
URL:https://www.goiania.go.leg.br/sala-de-imprensa/eventos/sessao-solene-d
 e-entrega-de-titulo-ao-padre-sebastiao-romario-damas-fora-da-casa-de-leis
END:VEVENT
BEGIN:VTIMEZONE
TZID:Brazil/East
X-LIC-LOCATION:Brazil/East
BEGIN:STANDARD
DTSTART;VALUE=DATE-TIME:20160220T230000
TZNAME:BRT
TZOFFSETFROM:-0200
TZOFFSETTO:-0300
END:STANDARD
END:VTIMEZONE
END:VCALENDAR
