BEGIN:VCALENDAR
VERSION:2.0
PRODID:-//Plone.org//NONSGML plone.app.event//EN
X-WR-TIMEZONE:Brazil/East
BEGIN:VEVENT
SUMMARY:SESSÃO SOLENE DE ENTREGA DE TÍTULO AO JUIZ FEDERAL ALDERICO ROCH
 A SANTOS
DTSTART;TZID=Brazil/East;VALUE=DATE-TIME:20200403T193000
DTEND;TZID=Brazil/East;VALUE=DATE-TIME:20200403T220000
DTSTAMP;VALUE=DATE-TIME:20260419T162519Z
UID:56c9cf553bf1486eb0980ee8555e4e6a@www.goiania.go.leg.br
CONTACT:VEREADOR CARLIN CAFÉ
CREATED;VALUE=DATE-TIME:20200203T112654Z
LAST-MODIFIED;VALUE=DATE-TIME:20200203T112708Z
LOCATION:PLENÁRIO TRAJANO GUIMARÃES
URL:https://www.goiania.go.leg.br/sala-de-imprensa/eventos/sessao-solene-d
 e-entrega-de-titulo-ao-juiz-federal-alderico-rocha-santos
END:VEVENT
BEGIN:VTIMEZONE
TZID:Brazil/East
X-LIC-LOCATION:Brazil/East
BEGIN:STANDARD
DTSTART;VALUE=DATE-TIME:20200215T230000
TZNAME:BRT
TZOFFSETFROM:-0200
TZOFFSETTO:-0300
END:STANDARD
END:VTIMEZONE
END:VCALENDAR
