BEGIN:VCALENDAR
VERSION:2.0
PRODID:-//Plone.org//NONSGML plone.app.event//EN
X-WR-TIMEZONE:Brazil/East
BEGIN:VEVENT
SUMMARY:SESSÃO SOLENE DE ENTREGA DE TÍTULO AO DR. ANDRÉ FERNANDES DE AL
 MEIDA.
DTSTART;TZID=Brazil/East;VALUE=DATE-TIME:20181023T193000
DTEND;TZID=Brazil/East;VALUE=DATE-TIME:20181023T220000
DTSTAMP;VALUE=DATE-TIME:20260419T145830Z
UID:942b97cc75874f7b82c2a5a5ae69fc34@www.goiania.go.leg.br
CONTACT:VEREADOR DELEGADO EDUARDO PRADO
CREATED;VALUE=DATE-TIME:20181011T101744Z
LAST-MODIFIED;VALUE=DATE-TIME:20181011T101751Z
LOCATION:PLENÁRIO TRAJANO GUIMARÃES
URL:https://www.goiania.go.leg.br/sala-de-imprensa/eventos/sessao-solene-d
 e-entrega-de-titulo-ao-dr-andre-fernandes-de-almeida
END:VEVENT
BEGIN:VTIMEZONE
TZID:Brazil/East
X-LIC-LOCATION:Brazil/East
BEGIN:DAYLIGHT
DTSTART;VALUE=DATE-TIME:20181021T010000
TZNAME:BRST
TZOFFSETFROM:-0300
TZOFFSETTO:-0200
END:DAYLIGHT
END:VTIMEZONE
END:VCALENDAR
